BEGIN:VCALENDAR
VERSION:2.0
PRODID:-//ChamberMaster//Event Calendar 2.0//EN
METHOD:PUBLISH
X-PUBLISHED-TTL:P3D
REFRESH-INTERVAL:P3D
CALSCALE:GREGORIAN
BEGIN:VEVENT
DTSTART:20160130T190000Z
DTEND:20160130T230000Z
X-MICROSOFT-CDO-ALLDAYEVENT:FALSE
SUMMARY:Annual Chili Days
DESCRIPTION:Pleasant Lakers Snowmobile Club invites you to their Annual Chili Days at Not Too Far Away. Help us celebrate 46 years as a club and support snowmobiling in Walworth County. There will be Meat Raffles\, Hourly Raffles and a 50/50 $$$ Raffle.
X-ALT-DESC;FMTTYPE=text/html:Pleasant Lakers Snowmobile Club invites you to their Annual Chili Days at Not Too Far Away. Help us celebrate 46 years as a club and support snowmobiling in Walworth County. There will be Meat Raffles\, Hourly Raffles and a 50/50 $$$ Raffle.
LOCATION:Not Too Far Away Hwy 12/67 and ES
UID:e.2059.1878
SEQUENCE:3
DTSTAMP:20260424T075913Z
URL:https://business.elkhornchamber.com/events/details/annual-chili-days-01-30-2016-1878
END:VEVENT

END:VCALENDAR
