BEGIN:VCALENDAR
VERSION:2.0
PRODID:-//ChamberMaster//Event Calendar 2.0//EN
METHOD:PUBLISH
X-PUBLISHED-TTL:P3D
REFRESH-INTERVAL:P3D
CALSCALE:GREGORIAN
BEGIN:VEVENT
DTSTART:20140913T180000Z
DTEND:20140913T200000Z
X-MICROSOFT-CDO-ALLDAYEVENT:FALSE
SUMMARY:Anne Of Green Gables Tea Party
DESCRIPTION:Extend your pinky finger at the 3rd annual Old World Foundation Tea Party! Come to a garden party with crafts and finger foods\, inspired by the Anne of Green Gables books. Learn elegant dance steps from the turn of the century. Children may bring a doll or stuffed animal to join the fun. Early registration ends September 10th. Day-of-event price is $15 for Friends and $20 for the general public. Space is limited!
X-ALT-DESC;FMTTYPE=text/html:Extend your pinky finger at the 3rd annual Old World Foundation Tea Party! Come to a garden party with crafts and finger foods\, inspired by the Anne of Green Gables books. Learn elegant dance steps from the turn of the century. Children may bring a doll or stuffed animal to join the fun. Early registration ends September 10th. Day-of-event price is $15 for Friends and $20 for the general public. Space is limited!
LOCATION:Old World Wisconsin W372 S9727 Hwy 67\, Eagle
UID:e.2059.285
SEQUENCE:3
DTSTAMP:20260425T122620Z
URL:https://business.elkhornchamber.com/events/details/anne-of-green-gables-tea-party-09-13-2014-285
END:VEVENT

END:VCALENDAR
