BEGIN:VCALENDAR
VERSION:2.0
PRODID:-//ChamberMaster//Event Calendar 2.0//EN
METHOD:PUBLISH
X-PUBLISHED-TTL:P3D
REFRESH-INTERVAL:P3D
CALSCALE:GREGORIAN
BEGIN:VEVENT
DTSTART:20181005T203000Z
DTEND:20181005T220000Z
X-MICROSOFT-CDO-ALLDAYEVENT:FALSE
SUMMARY:Anime Club
DESCRIPTION:Middle school and high school students are invited to join our teen program\, anime club! Do you love manga and anime? Join us!
X-ALT-DESC;FMTTYPE=text/html:<span style="color:rgb(0\, 0\, 0)\; font-family:arial\; font-size:14.6667px">Middle school and high school students are invited to join our teen program\, anime club! Do you love manga and anime? Join us!</span>
LOCATION:Matheson Memorial Library
UID:e.2059.9476
SEQUENCE:3
DTSTAMP:20260422T002204Z
URL:https://business.elkhornchamber.com/events/details/anime-club-10-05-2018-9476
END:VEVENT

END:VCALENDAR
