BEGIN:VCALENDAR
VERSION:2.0
PRODID:-//ChamberMaster//Event Calendar 2.0//EN
METHOD:PUBLISH
X-PUBLISHED-TTL:P3D
REFRESH-INTERVAL:P3D
CALSCALE:GREGORIAN
BEGIN:VEVENT
DTSTART:20160712T120000Z
DTEND:20160712T140000Z
X-MICROSOFT-CDO-ALLDAYEVENT:FALSE
SUMMARY:Andy's Breakfast Club
DESCRIPTION:Andy's Breakfast Club\n\nOffering free breakfast to children and families during the summer months. No sign up required or registration needed\, just come and eat!
X-ALT-DESC;FMTTYPE=text/html:<span style="font-size:18px\;"><strong>Andy&#39\;s Breakfast Club</strong><br />\n<span style="font-size:16px\;">Offering free breakfast to children and families during the summer months. No sign up required or registration needed\, just come and eat!</span></span>
LOCATION:Elkhorn Area Youth Center 420 E. Court Street Elkhorn\, WI 53121
UID:e.2059.4461
SEQUENCE:3
DTSTAMP:20260423T220444Z
URL:https://business.elkhornchamber.com/events/details/andy-s-breakfast-club-07-12-2016-4461
END:VEVENT

END:VCALENDAR
