BEGIN:VCALENDAR
VERSION:2.0
PRODID:-//ChamberMaster//Event Calendar 2.0//EN
METHOD:PUBLISH
X-PUBLISHED-TTL:P3D
REFRESH-INTERVAL:P3D
CALSCALE:GREGORIAN
BEGIN:VEVENT
DTSTART:20141129T220000Z
DTEND:20141130T000000Z
X-MICROSOFT-CDO-ALLDAYEVENT:FALSE
SUMMARY:An Out of the Box Christmas
DESCRIPTION:It's dress rehearsal for the Christmas pageant and when boxes show up with all the wrong costumes\, the kids have no other choice than to think out of the box! What is the young cast to do to get the Christmas message through? The show must always go on!\n\n\n\nThe Lakeland Players presents this children's holiday musical the whole family is sure to enjoy.
X-ALT-DESC;FMTTYPE=text/html:It&#39\;s dress rehearsal for the Christmas pageant and when boxes show up with all the wrong costumes\, the kids have no other choice than to think out of the box! What is the young cast to do to get the Christmas message through? The show must always go on!<br />\n<br />\nThe Lakeland Players presents this children&#39\;s holiday musical the whole family is sure to enjoy.
LOCATION:Walworth County Performing Arts Center (Sprague Theatre) 15 W. Walworth St.\, Elkhorn
UID:e.2059.778
SEQUENCE:3
DTSTAMP:20260425T104755Z
URL:https://business.elkhornchamber.com/events/details/an-out-of-the-box-christmas-11-29-2014-778
END:VEVENT

END:VCALENDAR
