BEGIN:VCALENDAR
VERSION:2.0
PRODID:-//ChamberMaster//Event Calendar 2.0//EN
METHOD:PUBLISH
X-PUBLISHED-TTL:P3D
REFRESH-INTERVAL:P3D
CALSCALE:GREGORIAN
BEGIN:VEVENT
DTSTART:20151212T013000Z
DTEND:20151212T033000Z
X-MICROSOFT-CDO-ALLDAYEVENT:FALSE
SUMMARY:An Irish Christmas
DESCRIPTION:The Kerry Dance Troupe\, as seen on PBS\, was established with the intention of promoting and celebrating Irish culture and its rich traditions through dance. This troupe blends various aspects of Irish folk-dance with old and modern Irish dance styles\, exposing audiences to the beauty\, value\, passion and uniqueness of traditional Irish ways that play such an important part in the life of the community. This production showcases several Irish dance traditions for the holidays.
X-ALT-DESC;FMTTYPE=text/html:The Kerry Dance Troupe\, as seen on PBS\, was established with the intention of promoting and celebrating Irish culture and its rich traditions through dance. This troupe blends various aspects of Irish folk-dance with old and modern Irish dance styles\, exposing audiences to the beauty\, value\, passion and uniqueness of traditional Irish ways that play such an important part in the life of the community. This production showcases several Irish dance traditions for the holidays.
LOCATION:Young Auditorium - 930 West Main Street\, Whitewater
UID:e.2059.1655
SEQUENCE:3
DTSTAMP:20260424T112015Z
URL:https://business.elkhornchamber.com/events/details/an-irish-christmas-12-11-2015-1655
END:VEVENT

END:VCALENDAR
