BEGIN:VCALENDAR
VERSION:2.0
PRODID:-//ChamberMaster//Event Calendar 2.0//EN
METHOD:PUBLISH
X-PUBLISHED-TTL:P3D
REFRESH-INTERVAL:P3D
CALSCALE:GREGORIAN
BEGIN:VEVENT
DTSTART:20170510T233000Z
DTEND:20170511T010000Z
X-MICROSOFT-CDO-ALLDAYEVENT:FALSE
SUMMARY:An Epic History of Aprons
DESCRIPTION:Did you know:\n\nthat men were the first to wear aprons?\n\nthat aprons are mentioned in the Bible?\n\nthat November 24th is National Tie One On Day?\n\n- meaning aprons\, of course!\n\nLearn even more fascinating facts about everyone's favorite tie-on cleaning accessory at this special presentation by educator and professional historical re-enactor Chris Brookes you'll never look at aprons the same way again!
X-ALT-DESC;FMTTYPE=text/html:<span style="font-family:arial\,helvetica\,sans-serif"><span style="font-size:12.0pt">Did you know:</span><br />\n<span style="font-size:12.0pt">that men were the first to wear aprons?</span><br />\n<span style="font-size:12.0pt">that aprons are mentioned in the Bible?</span><br />\n<span style="font-size:12.0pt">that November 24th is National Tie One On Day?</span><br />\n<span style="font-size:12.0pt">- meaning aprons\, of course!</span><br />\n<span style="font-size:12.0pt">Learn even more fascinating facts about everyone&rsquo\;s favorite tie-on cleaning accessory at this special presentation by educator and professional historical re-enactor Chris Brookes&hellip\;you&rsquo\;ll never look at aprons the same way again!</span></span><br />\n&nbsp\;
LOCATION:
UID:e.2059.5000
SEQUENCE:3
DTSTAMP:20260423T055735Z
URL:https://business.elkhornchamber.com/events/details/an-epic-history-of-aprons-5000
END:VEVENT

END:VCALENDAR
