BEGIN:VCALENDAR
VERSION:2.0
PRODID:-//ChamberMaster//Event Calendar 2.0//EN
METHOD:PUBLISH
X-PUBLISHED-TTL:P3D
REFRESH-INTERVAL:P3D
CALSCALE:GREGORIAN
BEGIN:VEVENT
DTSTART:20160608T150000Z
DTEND:20160608T200000Z
X-MICROSOFT-CDO-ALLDAYEVENT:FALSE
SUMMARY:American Red Cross Blood Drive
DESCRIPTION:American Red Cross Blood Drive
X-ALT-DESC;FMTTYPE=text/html:American Red Cross Blood Drive
LOCATION:Atrium Senior Living of Williams Bay at Sherwood Lodge. 116 Cherry St. Williams Bay 53191
UID:e.2059.3462
SEQUENCE:3
DTSTAMP:20260423T234853Z
URL:https://business.elkhornchamber.com/events/details/american-red-cross-blood-drive-06-08-2016-3462
END:VEVENT

END:VCALENDAR
