BEGIN:VCALENDAR
VERSION:2.0
PRODID:-//ChamberMaster//Event Calendar 2.0//EN
METHOD:PUBLISH
X-PUBLISHED-TTL:P3D
REFRESH-INTERVAL:P3D
CALSCALE:GREGORIAN
BEGIN:VEVENT
DTSTART:20180910T230000Z
DTEND:20180910T230000Z
X-MICROSOFT-CDO-ALLDAYEVENT:FALSE
SUMMARY:American Legion Post 45 Meeting
DESCRIPTION:Join the American Legion Post 45 in Elkhorn WI on the 2nd Monday of the Month for their meeting. Membership information available.
X-ALT-DESC;FMTTYPE=text/html:Join the American Legion Post 45 in Elkhorn WI on the 2nd Monday of the Month for their meeting. Membership information available.
LOCATION:Heritage Hall Elkhorn\, WI 53121
UID:e.2059.8947
SEQUENCE:3
DTSTAMP:20260422T021331Z
URL:https://business.elkhornchamber.com/events/details/american-legion-post-45-meeting-09-10-2018-8947
END:VEVENT

END:VCALENDAR
