BEGIN:VCALENDAR
VERSION:2.0
PRODID:-//ChamberMaster//Event Calendar 2.0//EN
METHOD:PUBLISH
X-PUBLISHED-TTL:P3D
REFRESH-INTERVAL:P3D
CALSCALE:GREGORIAN
BEGIN:VEVENT
DTSTART:20160816T233000Z
DTEND:20160817T010000Z
X-MICROSOFT-CDO-ALLDAYEVENT:FALSE
SUMMARY:Amelia Earhart: Soaring High on Wings of Success
DESCRIPTION:August 19th is National Aviation Day\, and to celebrate we are happy to welcome historian Jim Gibbons as he presents the life of the famous early aviatrix Amelia Earhart. The presentation will cover her achievements\, as well as her tragic and mysterious disappearance\, and feature plenty of period photos and amazing anecdotes about this trailblazing pioneer of the skies.
X-ALT-DESC;FMTTYPE=text/html:<p style="text-align:center">August 19th is National Aviation Day\, and to celebrate we are happy to welcome historian Jim Gibbons as he presents the life of the famous early aviatrix&nbsp\;Amelia Earhart. The presentation will cover her achievements\, as well as her tragic and mysterious disappearance\, and feature plenty of period photos and amazing anecdotes about this trailblazing pioneer of the skies.</p>\n\n<p style="text-align:center">&nbsp\;</p>\n
LOCATION:Matheson Memorial Library - Community Center
UID:e.2059.3582
SEQUENCE:3
DTSTAMP:20260423T205443Z
URL:https://business.elkhornchamber.com/events/details/amelia-earhart-soaring-high-on-wings-of-success-08-16-2016-3582
END:VEVENT

END:VCALENDAR
