BEGIN:VCALENDAR
VERSION:2.0
PRODID:-//ChamberMaster//Event Calendar 2.0//EN
METHOD:PUBLISH
X-PUBLISHED-TTL:P3D
REFRESH-INTERVAL:P3D
CALSCALE:GREGORIAN
BEGIN:VEVENT
DTSTART:20150214T233000Z
DTEND:20150215T020000Z
X-MICROSOFT-CDO-ALLDAYEVENT:FALSE
SUMMARY:All You Can Eat Chili Dog Dinner
DESCRIPTION:The Unitarian Universalist Church of the Lakes will be having a Valentine's Day All You Can Eat Chili Dog Dinner on. Tickets are $10 for adults and $5 for children under 12. Included in the meal will be hot dogs\, several varieties of chili\, toppings\, corn bread\, beverages\, desserts and some meatless options as well.
X-ALT-DESC;FMTTYPE=text/html:The Unitarian Universalist Church of the Lakes will be having a Valentine&#39\;s Day All You Can Eat Chili Dog Dinner on. Tickets are $10 for adults and $5 for children under 12. Included in the meal will be hot dogs\, several varieties of chili\, toppings\, corn bread\, beverages\, desserts and some meatless options as well.
LOCATION:UU Church of the Lakes 319 N. Broad St.\, Elkhorn
UID:e.2059.818
SEQUENCE:3
DTSTAMP:20260425T023240Z
URL:https://business.elkhornchamber.com/events/details/all-you-can-eat-chili-dog-dinner-02-14-2015-818
END:VEVENT

END:VCALENDAR
