BEGIN:VCALENDAR
VERSION:2.0
PRODID:-//ChamberMaster//Event Calendar 2.0//EN
METHOD:PUBLISH
X-PUBLISHED-TTL:P3D
REFRESH-INTERVAL:P3D
CALSCALE:GREGORIAN
BEGIN:VEVENT
DTSTART:20200118T163000Z
DTEND:20200118T180000Z
X-MICROSOFT-CDO-ALLDAYEVENT:FALSE
SUMMARY:All the Colors of Winter: An Art Extravaganza
DESCRIPTION:RESCHEDULED FROM JANUARY 11!\nBrighten the dark days of winter with an art extravaganza! Families\, children\, and teens invited\, all ages and abilities welcome! Be prepared to paint\, draw\, glue\, and get messy as you create colorful masterpieces.
X-ALT-DESC;FMTTYPE=text/html:<div style="text-align: center\;"><span style="color:#FF0000"><span style="font-size:22px">RESCHEDULED FROM JANUARY 11!</span></span></div>\n<span style="color:rgb(0\, 0\, 0)\; font-family:arial\; font-size:14.6667px">Brighten the dark days of winter with an art extravaganza! Families\, children\, and teens invited\, all ages and abilities welcome! Be prepared to paint\, draw\, glue\, and get messy as you create colorful masterpieces.</span>
LOCATION:Matheson Memorial Library
UID:e.2059.11400
SEQUENCE:3
DTSTAMP:20260419T183110Z
URL:https://business.elkhornchamber.com/events/details/all-the-colors-of-winter-an-art-extravaganza-01-18-2020-11400
END:VEVENT

END:VCALENDAR
