BEGIN:VCALENDAR
VERSION:2.0
PRODID:-//ChamberMaster//Event Calendar 2.0//EN
METHOD:PUBLISH
X-PUBLISHED-TTL:P3D
REFRESH-INTERVAL:P3D
CALSCALE:GREGORIAN
BEGIN:VEVENT
DTSTART:20160302T013000Z
DTEND:20160302T033000Z
X-MICROSOFT-CDO-ALLDAYEVENT:FALSE
SUMMARY:All My Sons (Montana Repertory Theatre)
DESCRIPTION:All My Sons\, written about post-World War II experiences\, continues to resonate with today?s audiences\, teaching us that as we struggle in the aftermath of war and conflict\, compassion and forgiveness provide the only means by which we will heal. The power of Arthur Miller?s story about war?s consequences for both veterans and civilians ? of honor and sacrifice\; of guilt\, honesty\, hope and love ? is as relevant today as when the play premiered in 1947. Led by Artistic Director Greg Johnson\, Montana Repertory Theatre was established as a professional touring company in 1968 and is the theatre-in-residence at the University of Montana.
X-ALT-DESC;FMTTYPE=text/html:All My Sons\, written about post-World War II experiences\, continues to resonate with today?s audiences\, teaching us that as we struggle in the aftermath of war and conflict\, compassion and forgiveness provide the only means by which we will heal. The power of Arthur Miller?s story about war?s consequences for both veterans and civilians ? of honor and sacrifice\; of guilt\, honesty\, hope and love ? is as relevant today as when the play premiered in 1947. Led by Artistic Director Greg Johnson\, Montana Repertory Theatre was established as a professional touring company in 1968 and is the theatre-in-residence at the University of Montana.
LOCATION:Young Auditorium - 930 West Main Street\, Whitewater
UID:e.2059.1663
SEQUENCE:3
DTSTAMP:20260424T050155Z
URL:https://business.elkhornchamber.com/events/details/all-my-sons-montana-repertory-theatre-03-01-2016-1663
END:VEVENT

END:VCALENDAR
