BEGIN:VCALENDAR
VERSION:2.0
PRODID:-//ChamberMaster//Event Calendar 2.0//EN
METHOD:PUBLISH
X-PUBLISHED-TTL:P3D
REFRESH-INTERVAL:P3D
CALSCALE:GREGORIAN
BEGIN:VEVENT
DTSTART:20190214T003000Z
DTEND:20190214T020000Z
X-MICROSOFT-CDO-ALLDAYEVENT:FALSE
SUMMARY:Alice's Ordinary People
DESCRIPTION:Craig Dudnick\, creator of Alice's Ordinary People\, tells about Alice Tregay and her incredible\n\nwork in the struggle for equal rights.
X-ALT-DESC;FMTTYPE=text/html:<div style="text-align: center\;"><span style="font-family:times new roman"><span style="font-size:18px">Craig Dudnick\, creator of <em>Alice&rsquo\;s Ordinary People</em>\,&nbsp\;tells about Alice Tregay and her incredible</span></span></div>\n\n<div style="text-align: center\;"><span style="font-family:times new roman"><span style="font-size:18px">work in the struggle for equal rights.</span></span><br />\n&nbsp\;</div>\n
LOCATION:Matheson Memorial Library
UID:e.2059.10248
SEQUENCE:3
DTSTAMP:20260421T171329Z
URL:https://business.elkhornchamber.com/events/details/alice-s-ordinary-people-10248
END:VEVENT

END:VCALENDAR
