BEGIN:VCALENDAR
VERSION:2.0
PRODID:-//ChamberMaster//Event Calendar 2.0//EN
METHOD:PUBLISH
X-PUBLISHED-TTL:P3D
REFRESH-INTERVAL:P3D
CALSCALE:GREGORIAN
BEGIN:VEVENT
DTSTART:20191120T200000Z
DTEND:20191120T210000Z
X-MICROSOFT-CDO-ALLDAYEVENT:FALSE
SUMMARY:Afternoon Book Club
DESCRIPTION:The Afternoon Book Club is a relaxed group of people who just enjoy sharing a great book!  They meet on the third Wednesday of the month at 2 PM.\n\n\n\nThis month:  The Death and Life of the Great Lakes by Dan Egan
X-ALT-DESC;FMTTYPE=text/html:<div style="text-align:center">The Afternoon Book Club is a relaxed group of people who just enjoy sharing a great book! &nbsp\;They meet on the third Wednesday of the month at 2 PM.<br />\n<br />\n<strong>This month:&nbsp\;&nbsp\;<em>The Death and Life of the Great Lakes&nbsp\;</em>by Dan Egan</strong></div>\n\n<div><br />\n&nbsp\;</div>\n
LOCATION:Matheson Memorial Library
UID:e.2059.11228
SEQUENCE:3
DTSTAMP:20260420T055344Z
URL:https://business.elkhornchamber.com/events/details/afternoon-book-club-11-20-2019-11228
END:VEVENT

END:VCALENDAR
