BEGIN:VCALENDAR
VERSION:2.0
PRODID:-//ChamberMaster//Event Calendar 2.0//EN
METHOD:PUBLISH
X-PUBLISHED-TTL:P3D
REFRESH-INTERVAL:P3D
CALSCALE:GREGORIAN
BEGIN:VEVENT
DTSTART:20190619T190000Z
DTEND:20190619T200000Z
X-MICROSOFT-CDO-ALLDAYEVENT:FALSE
SUMMARY:Afternoon Book Club
DESCRIPTION:The Afternoon Book Club is a relaxed group of people who just enjoy sharing a great book!  They meet on the third Wednesday of the month at 2 PM.
X-ALT-DESC;FMTTYPE=text/html:<div>The Afternoon Book Club is a relaxed group of people who just enjoy sharing a great book! &nbsp\;They meet on the third Wednesday of the month at 2 PM.</div>\n
LOCATION:Matheson Memorial Library
UID:e.2059.10880
SEQUENCE:3
DTSTAMP:20260421T033406Z
URL:https://business.elkhornchamber.com/events/details/afternoon-book-club-06-19-2019-10880
END:VEVENT

END:VCALENDAR
