BEGIN:VCALENDAR
VERSION:2.0
PRODID:-//ChamberMaster//Event Calendar 2.0//EN
METHOD:PUBLISH
X-PUBLISHED-TTL:P3D
REFRESH-INTERVAL:P3D
CALSCALE:GREGORIAN
BEGIN:VEVENT
DTSTART:20160728T203000Z
DTEND:20160728T223000Z
X-MICROSOFT-CDO-ALLDAYEVENT:FALSE
SUMMARY:After School Clubs
DESCRIPTION:Come and join our Thursday after school clubs. Whether it is Messy Art\, Mad Scientists\, or lego building\, we have something for everyone! Feel free to drop in anytime between 3:30 and 5:30 and have some fun. All ages are welcome and encouraged to join in on the activities!
X-ALT-DESC;FMTTYPE=text/html:<strong><span style="font-family:avantgarde"><span style="font-size:18.0pt">Come and join our Thursday after school clubs. Whether it is Messy Art\, Mad Scientists\, or lego building\, we have something for everyone! Feel free to drop in anytime between 3:30 and 5:30 and have some fun. All ages are welcome and encouraged to join in on the activities!&nbsp\;</span></span></strong><br />\n&nbsp\;
LOCATION:The community room at Matheson Memorial Library
UID:e.2059.3793
SEQUENCE:3
DTSTAMP:20260423T233815Z
URL:https://business.elkhornchamber.com/events/details/after-school-clubs-07-28-2016-3793
END:VEVENT

END:VCALENDAR
