BEGIN:VCALENDAR
VERSION:2.0
PRODID:-//ChamberMaster//Event Calendar 2.0//EN
METHOD:PUBLISH
X-PUBLISHED-TTL:P3D
REFRESH-INTERVAL:P3D
CALSCALE:GREGORIAN
BEGIN:VEVENT
DTSTART:20180727T200000Z
DTEND:20180727T230000Z
X-MICROSOFT-CDO-ALLDAYEVENT:FALSE
SUMMARY:Advia Credit Union Member Appreciation Day!
DESCRIPTION:Join Advia at our Member Appreciation Day Celebration! Stop by on July 27th from 3-6pm at our Elkhorn or Silver Lake Branch locations for food\, fun and games!
X-ALT-DESC;FMTTYPE=text/html:Join Advia at our Member Appreciation Day Celebration! Stop by on July 27th from 3-6pm at our Elkhorn or Silver Lake Branch locations for food\, fun and games!
LOCATION:Elkhorn Branch 837 N. Wisconsin Street Elkhorn\, WI 53121 Silver Lake Branch 29430 Silver Lake Road Salem\, WI 53168
UID:e.2059.9125
SEQUENCE:3
DTSTAMP:20260422T071903Z
URL:https://business.elkhornchamber.com/events/details/advia-credit-union-member-appreciation-day-9125
END:VEVENT

END:VCALENDAR
