BEGIN:VCALENDAR
VERSION:2.0
PRODID:-//ChamberMaster//Event Calendar 2.0//EN
METHOD:PUBLISH
X-PUBLISHED-TTL:P3D
REFRESH-INTERVAL:P3D
CALSCALE:GREGORIAN
BEGIN:VEVENT
DTSTART;VALUE=DATE:20180412
DTEND;VALUE=DATE:20180413
TRANSP:TRANSPARENT
X-MICROSOFT-CDO-ALLDAYEVENT:TRUE
SUMMARY:Adult Art Night @ the Library
DESCRIPTION:Adult Art Night at the Library! More information to come.
X-ALT-DESC;FMTTYPE=text/html:Adult Art Night at the Library! More information to come.
LOCATION:Matheson Memorial Library Elkhorn\,WI
UID:e.2059.8657
SEQUENCE:3
DTSTAMP:20260422T102847Z
URL:https://business.elkhornchamber.com/events/details/adult-art-night-the-library-8657
END:VEVENT

END:VCALENDAR
