BEGIN:VCALENDAR
VERSION:2.0
PRODID:-//ChamberMaster//Event Calendar 2.0//EN
METHOD:PUBLISH
X-PUBLISHED-TTL:P3D
REFRESH-INTERVAL:P3D
CALSCALE:GREGORIAN
BEGIN:VEVENT
DTSTART:20180425T160000Z
DTEND:20180425T190000Z
X-MICROSOFT-CDO-ALLDAYEVENT:FALSE
SUMMARY:Administrative Professionals Day Lunch
DESCRIPTION:Treat your administrative professionals and other valued team members to a special lunch at The Frontier Restaurant on Wednesday\, April 25\, 2018. This year's event will feature a Chef's Select Pasta Bar and Italian Buffet.  Every attendee will receive a complimentary Chocolate Truffle Mascarpone Cupcake as a Thank You for all you do! Lunch will be served from 11:00am until 2:00pm. $15.95 per person. A La Carte Menu Also Available. Call the Frontier Restaurant for reservations: 262.725.9155\n\nChef's Select Pasta Bar and Italian Buffet\n\nSalad Bar\n\nItaliano Garden Salad\n\nCeasar Salad with House Ceasar Dressing\n\nPanzanella Italian Bread Salad\n\nAmaretto Fresh Fruit Salad\n\nFarfalle Pasta Salad with Fresh Basil and Roasted Grape Tomatoes\n\nSoupa\n\nPasta Fagioli Soup with Orecchiette Pasta with Warm Parmesan Garlic Knots\n\nPizza and Flat Bread Bar\n\nA Variety of Fresh-Baked Artisan Pizzas and Flat Breads\n\nCreate Your Own Pasta at our Pasta Action Station\n\nProteins and Vegetables\n\nShrimp\, Chicken\, Meatballs\, Italian Sausage\, Bell Peppers\, Broccoli\, Tomatoes and Mushrooms\n\nSauces\n\nMontamore Cheese Alfredo Sauce\, Vodka Sauce\, and Bolognaise Meat Sauce\n\nPastas\n\nPenne\, Fettuccine and Spaghetti with Fresh Herbs\, Parmesan Cheese\, and Red Chiles\n\nDessert\n\nAssorted Gelato Selections or Lemon Ice
X-ALT-DESC;FMTTYPE=text/html:<p style="text-align: left\;"><span style="font-size: 14pt\; color: #000000\;">Treat your administrative professionals and other valued team members to a special lunch at The Frontier Restaurant on Wednesday\, April 25\, 2018. This year&rsquo\;s event will feature a Chef&rsquo\;s Select Pasta Bar and Italian Buffet.&nbsp\; Every attendee will receive a complimentary Chocolate Truffle Mascarpone Cupcake as a Thank You for all you do!&nbsp\;</span><span style="font-size: 14pt\; color: #000000\;">Lunch will be served from 11:00am until 2:00pm. $15.95 per person.&nbsp\;</span><span style="font-size: 14pt\; color: #000000\;">A La Carte Menu Also Available.&nbsp\;</span><span style="font-size: 14pt\; color: #000000\;">Call the Frontier Restaurant for reservations: 262.725.9155</span></p>\n\n<p style="text-align: center\;"><span style="font-size: 14pt\; color: #000000\;"><strong>Chef&rsquo\;s Select Pasta Bar and Italian Buffet</strong></span></p>\n\n<p style="text-align: center\;"><span style="font-size: 14pt\; color: #000000\;"><em>Salad Bar</em></span></p>\n\n<p style="text-align: center\;"><span style="font-size: 14pt\; color: #000000\;">Italiano Garden Salad</span></p>\n\n<p style="text-align: center\;"><span style="font-size: 14pt\; color: #000000\;">Ceasar Salad with House Ceasar Dressing</span></p>\n\n<p style="text-align: center\;"><span style="font-size: 14pt\; color: #000000\;">Panzanella Italian Bread Salad</span></p>\n\n<p style="text-align: center\;"><span style="font-size: 14pt\; color: #000000\;">Amaretto Fresh Fruit Salad</span></p>\n\n<p style="text-align: center\;"><span style="font-size: 14pt\; color: #000000\;">Farfalle Pasta Salad with Fresh Basil and Roasted Grape Tomatoes</span></p>\n\n<p style="text-align: center\;"><span style="font-size: 14pt\; color: #000000\;"><em>Soupa</em></span></p>\n\n<p style="text-align: center\;"><span style="font-size: 14pt\; color: #000000\;">Pasta Fagioli Soup with Orecchiette Pasta with Warm Parmesan Garlic Knots</span></p>\n\n<p style="text-align: center\;"><span style="font-size: 14pt\; color: #000000\;"><em>Pizza and Flat Bread Bar</em></span></p>\n\n<p style="text-align: center\;"><span style="font-size: 14pt\; color: #000000\;">A Variety of Fresh-Baked Artisan Pizzas and Flat Breads</span></p>\n\n<p style="text-align: center\;"><span style="font-size: 14pt\; color: #000000\;"><em>Create Your Own Pasta at our Pasta Action Station</em></span></p>\n\n<p style="text-align: center\;"><span style="font-size: 14pt\; color: #000000\;"><em>Proteins and Vegetables</em></span></p>\n\n<p style="text-align: center\;"><span style="font-size: 14pt\; color: #000000\;">Shrimp\, Chicken\, Meatballs\, Italian Sausage\, Bell Peppers\, Broccoli\, Tomatoes and Mushrooms</span></p>\n\n<p style="text-align: center\;"><span style="font-size: 14pt\; color: #000000\;"><em>Sauces</em></span></p>\n\n<p style="text-align: center\;"><span style="font-size: 14pt\; color: #000000\;">Montamore Cheese Alfredo Sauce\, Vodka Sauce\, and Bolognaise Meat Sauce</span></p>\n\n<p style="text-align: center\;"><span style="font-size: 14pt\; color: #000000\;"><em>Pastas</em></span></p>\n\n<p style="text-align: center\;"><span style="font-size: 14pt\; color: #000000\;">Penne\, Fettuccine and Spaghetti with&nbsp\;Fresh Herbs\, Parmesan Cheese\, and Red Chiles</span></p>\n\n<p style="text-align: center\;"><span style="font-size: 14pt\; color: #000000\;"><em>Dessert</em></span></p>\n\n<p style="text-align: center\;"><span style="font-size: 14pt\; color: #000000\;">Assorted Gelato Selections or Lemon Ice</span></p>\n
LOCATION:Location: Frontier Restaurant 2400 E. Geneva St. Delavan\, Wisconsin 53115
UID:e.2059.8780
SEQUENCE:3
DTSTAMP:20260422T102505Z
URL:https://business.elkhornchamber.com/events/details/administrative-professionals-day-lunch-8780
END:VEVENT

END:VCALENDAR
