BEGIN:VCALENDAR
VERSION:2.0
PRODID:-//ChamberMaster//Event Calendar 2.0//EN
METHOD:PUBLISH
X-PUBLISHED-TTL:P3D
REFRESH-INTERVAL:P3D
CALSCALE:GREGORIAN
BEGIN:VEVENT
DTSTART:20140921T153000Z
DTEND:20140921T163000Z
X-MICROSOFT-CDO-ALLDAYEVENT:FALSE
SUMMARY:A Time of Praise
DESCRIPTION:Hymn writer and inspirational Christian musician Trenton Thomas will present A Time of Praise\, featuring hymns of the Christian faith in fresh new ways. Along the way\, discover the great outdoors as viewed through Trenton's camera lens. The whole family is sure to enjoy Trenton's professional\, classically-trained piano and vocals in this relaxing time of music\, praise\, and community.
X-ALT-DESC;FMTTYPE=text/html:Hymn writer and inspirational Christian musician Trenton Thomas will present A Time of Praise\, featuring hymns of the Christian faith in fresh new ways. Along the way\, discover the great outdoors as viewed through Trenton&#39\;s camera lens. The whole family is sure to enjoy Trenton&#39\;s professional\, classically-trained piano and vocals in this relaxing time of music\, praise\, and community.
LOCATION:Southern Lakes Evangelical Free Church N6686 US Hwy 12\, Elkhorn
UID:e.2059.506
SEQUENCE:3
DTSTAMP:20260425T122044Z
URL:https://business.elkhornchamber.com/events/details/a-time-of-praise-09-21-2014-506
END:VEVENT

END:VCALENDAR
