BEGIN:VCALENDAR
VERSION:2.0
PRODID:-//ChamberMaster//Event Calendar 2.0//EN
METHOD:PUBLISH
X-PUBLISHED-TTL:P3D
REFRESH-INTERVAL:P3D
CALSCALE:GREGORIAN
BEGIN:VEVENT
DTSTART:20190425T230000Z
DTEND:20190426T010000Z
X-MICROSOFT-CDO-ALLDAYEVENT:FALSE
SUMMARY:A Night with the Stars
DESCRIPTION:The Fine Arts Board Presents "A Nigh with the Stars" featuring vocal and instrumental state performers from Elkhorn Area High School. Tickets can be purchased at the door.
X-ALT-DESC;FMTTYPE=text/html:<span style="color: rgb(29\, 33\, 41)\; font-family: Helvetica\, Arial\, sans-serif\; font-size: 14px\; white-space: pre-wrap\;">The Fine Arts Board Presents &quot\;A Nigh with the Stars&quot\; featuring vocal and instrumental state performers from Elkhorn Area High School. Tickets can be purchased at the door. </span>
LOCATION:Elkhorn Area High School Auditorium
UID:e.2059.10837
SEQUENCE:3
DTSTAMP:20260421T134613Z
URL:https://business.elkhornchamber.com/events/details/a-night-with-the-stars-10837
END:VEVENT

END:VCALENDAR
