BEGIN:VCALENDAR
VERSION:2.0
PRODID:-//ChamberMaster//Event Calendar 2.0//EN
METHOD:PUBLISH
X-PUBLISHED-TTL:P3D
REFRESH-INTERVAL:P3D
CALSCALE:GREGORIAN
BEGIN:VEVENT
DTSTART:20160420T153000Z
DTEND:20160420T170000Z
X-MICROSOFT-CDO-ALLDAYEVENT:FALSE
SUMMARY:A Day at the Farm
DESCRIPTION:Come spend a "day on the farm!" There will be photo opportunities\, farm animals to meet\, a farm breakfast\, and a lot to learn about what happens on a farm! This event is FREE to attend and no need to register!\n\n\n\nThis event is sponsored by EASD 4K: Lakeland's Little Learners\, Step Ahead Preschool\, The Learning Curve\, Matheson Memorial Library Youth Services\, and EASD Parent Connections
X-ALT-DESC;FMTTYPE=text/html:<span style="font-size:14px"><span style="font-family:jester">Come spend a &quot\;day on the farm!&quot\; There will be photo opportunities\, farm animals to meet\, a farm breakfast\, and a lot to learn about what happens on a farm! This event is FREE to attend and no need to register!<br />\n<br />\nThis event is sponsored by EASD 4K: Lakeland&#39\;s Little Learners\, Step Ahead Preschool\, The Learning Curve\, Matheson Memorial Library Youth Services\, and EASD Parent Connections</span></span><br />\n&nbsp\;
LOCATION:Matheson Memorial Library
UID:e.2059.3411
SEQUENCE:3
DTSTAMP:20260424T045220Z
URL:https://business.elkhornchamber.com/events/details/a-day-at-the-farm-04-20-2016-3411
END:VEVENT

END:VCALENDAR
