BEGIN:VCALENDAR
VERSION:2.0
PRODID:-//ChamberMaster//Event Calendar 2.0//EN
METHOD:PUBLISH
X-PUBLISHED-TTL:P3D
REFRESH-INTERVAL:P3D
CALSCALE:GREGORIAN
BEGIN:VEVENT
DTSTART;VALUE=DATE:20161216
DTEND;VALUE=DATE:20161219
TRANSP:TRANSPARENT
X-MICROSOFT-CDO-ALLDAYEVENT:TRUE
SUMMARY:A Child's NutCracker Toe to Toe Ballet
DESCRIPTION:"A Child's Nutcracker" Ballet performed by Toe to Toe Ballet School.\n\n*10% of ticket proceeds goes to support Agape House\, Walworth
X-ALT-DESC;FMTTYPE=text/html:<font face="arial" size="5">&quot\;A Child&#39\;s Nutcracker&quot\; Ballet performed by Toe to Toe Ballet School.<br />\n*10% of ticket proceeds goes to support Agape House\, Walworth</font><br />\n&nbsp\;
LOCATION:Walworth County Performing Arts Center (Sprague Theatre) in Elkhorn.
UID:e.2059.4561
SEQUENCE:3
DTSTAMP:20260423T153216Z
URL:https://business.elkhornchamber.com/events/details/a-child-s-nutcracker-toe-to-toe-ballet-4561
END:VEVENT

END:VCALENDAR
