BEGIN:VCALENDAR
VERSION:2.0
PRODID:-//ChamberMaster//Event Calendar 2.0//EN
METHOD:PUBLISH
X-PUBLISHED-TTL:P3D
REFRESH-INTERVAL:P3D
CALSCALE:GREGORIAN
BEGIN:VEVENT
DTSTART;VALUE=DATE:20171215
DTEND;VALUE=DATE:20171218
TRANSP:TRANSPARENT
X-MICROSOFT-CDO-ALLDAYEVENT:TRUE
SUMMARY:A Child's Nutcracker Presented by Toe to Toe Ballet
DESCRIPTION:Join Toe to Toe Ballet for their "A Child's Nutcracker".\n\nShowtimes are Friday\, December 15th at 7pm\, Saturday the 16th at 2:00pm and 7:00pm\, finsihing with Sunday at 2:00pm.
X-ALT-DESC;FMTTYPE=text/html:Join Toe to Toe Ballet for their &quot\;A Child&#39\;s Nutcracker&quot\;.<br />\nShowtimes are Friday\, December 15th at 7pm\, Saturday the 16th at 2:00pm and 7:00pm\, finsihing with Sunday at 2:00pm.
LOCATION:Walworth County Performing Arts Center Sprague Theatre
UID:e.2059.7296
SEQUENCE:3
DTSTAMP:20260422T163536Z
URL:https://business.elkhornchamber.com/events/details/a-child-s-nutcracker-presented-by-toe-to-toe-ballet-7296
END:VEVENT

END:VCALENDAR
