BEGIN:VCALENDAR
VERSION:2.0
PRODID:-//ChamberMaster//Event Calendar 2.0//EN
METHOD:PUBLISH
X-PUBLISHED-TTL:P3D
REFRESH-INTERVAL:P3D
CALSCALE:GREGORIAN
BEGIN:VEVENT
DTSTART;VALUE=DATE:20191213
DTEND;VALUE=DATE:20191216
TRANSP:TRANSPARENT
X-MICROSOFT-CDO-ALLDAYEVENT:TRUE
SUMMARY:A Charlie Brown Christmas by Lakeland Players
DESCRIPTION:This year celebrate Christmas with Charlie Brown. Lakeland Players presents "A CHARLIE BROWN CHRISTMAS" at the Historic Sprague Theater in downtown Elkhorn. Bring the whole family and enjoy this live on stage Christmas season musical. Join in on the celebration with Charlie Brown\, Lucy\, Linus\, Snoopy and The Peanuts Gang. Performances on December 13\,14\,15 & 20\,21&22. Fri & Sat @ 7:30pm & Sun @ 3pm. Tickets available at the Elkhorn Chamber of Commerce\, online and from the ticket manager.
X-ALT-DESC;FMTTYPE=text/html:<span style="color: rgb(34\, 34\, 34)\; font-family: Roboto\, RobotoDraft\, Helvetica\, Arial\, sans-serif\; font-size: 13.3333px\;">This year celebrate Christmas with Charlie Brown. Lakeland Players presents &quot\;A CHARLIE BROWN CHRISTMAS&quot\; at the Historic Sprague Theater in downtown Elkhorn. Bring the whole family and enjoy this live on stage Christmas season musical. Join in on the celebration with Charlie Brown\, Lucy\, Linus\, Snoopy and The Peanuts Gang. Performances on December 13\,14\,15 &amp\; 20\,21&amp\;22. Fri &amp\; Sat @ 7:30pm &amp\; Sun @ 3pm. Tickets available at the Elkhorn Chamber of Commerce\, online and from the ticket manager.</span>
LOCATION:15 W. Walworth Street Elkhorn\, WI 53121
UID:e.2059.10589
SEQUENCE:3
DTSTAMP:20260419T232859Z
URL:https://business.elkhornchamber.com/events/details/a-charlie-brown-christmas-by-lakeland-players-10589
END:VEVENT

END:VCALENDAR
