BEGIN:VCALENDAR
VERSION:2.0
PRODID:-//ChamberMaster//Event Calendar 2.0//EN
METHOD:PUBLISH
X-PUBLISHED-TTL:P3D
REFRESH-INTERVAL:P3D
CALSCALE:GREGORIAN
BEGIN:VEVENT
DTSTART;VALUE=DATE:20170821
DTEND;VALUE=DATE:20170822
TRANSP:TRANSPARENT
X-MICROSOFT-CDO-ALLDAYEVENT:TRUE
SUMMARY:9th Grade Transition Day (Freshman Orientation)
DESCRIPTION:
X-ALT-DESC;FMTTYPE=text/html:
LOCATION:Elkhorn Area High School
UID:e.2059.5498
SEQUENCE:3
DTSTAMP:20260422T232921Z
URL:https://business.elkhornchamber.com/events/details/9th-grade-transition-day-freshman-orientation-5498
END:VEVENT

END:VCALENDAR
