BEGIN:VCALENDAR
VERSION:2.0
PRODID:-//ChamberMaster//Event Calendar 2.0//EN
METHOD:PUBLISH
X-PUBLISHED-TTL:P3D
REFRESH-INTERVAL:P3D
CALSCALE:GREGORIAN
BEGIN:VEVENT
DTSTART;VALUE=DATE:20190316
DTEND;VALUE=DATE:20190317
TRANSP:TRANSPARENT
X-MICROSOFT-CDO-ALLDAYEVENT:TRUE
SUMMARY:8th Annual Nick Van Dyke Shamrock Shuffle Memorial Fun run & walk
DESCRIPTION:8th Annual Memorial Fun Run and Walk
X-ALT-DESC;FMTTYPE=text/html:8th Annual Memorial Fun Run and Walk
LOCATION:Run/walk starts at Lauderdale Landing at W5625 Westshore Drive\, Elkhorn\,WI 53121
UID:e.2059.9716
SEQUENCE:3
DTSTAMP:20260421T153657Z
URL:https://business.elkhornchamber.com/events/details/8th-annual-nick-van-dyke-shamrock-shuffle-memorial-fun-run-walk-9716
END:VEVENT

END:VCALENDAR
