BEGIN:VCALENDAR
VERSION:2.0
PRODID:-//ChamberMaster//Event Calendar 2.0//EN
METHOD:PUBLISH
X-PUBLISHED-TTL:P3D
REFRESH-INTERVAL:P3D
CALSCALE:GREGORIAN
BEGIN:VEVENT
DTSTART:20161124T134500Z
DTEND:20161124T134500Z
X-MICROSOFT-CDO-ALLDAYEVENT:FALSE
SUMMARY:7th Annual Turkey Trot
DESCRIPTION:Run the race before you stuff your face!\n\nThis race is a great for the whole family! It offers a wide range of challenges for any type of runner!\n\nRace day registration 7:00-7:45 AM\n\nRACE STARTS AT 8:00 AM\n\nTo guarantee shirt and size\, register by November 10th\, 2015\n\nEvent details and schedule\n\n \n\nWe ask with each registered runner you please bring 2 non-perishable food items to donate to the local food pantry.
X-ALT-DESC;FMTTYPE=text/html:<p>Run the race before you stuff your face!</p>\n\n<p>This race is a great for the whole family! It offers a wide range of challenges for any type of runner!</p>\n\n<p>Race day registration 7:00-7:45 AM</p>\n\n<p>RACE STARTS AT 8:00 AM</p>\n\n<p>To guarantee shirt and size\, register by November 10th\, 2015</p>\n\n<h4>Event details and schedule</h4>\n\n<p>&nbsp\;</p>\n\n<p>We ask with each registered runner you please bring 2 non-perishable food items to donate to the local food pantry.</p>\n
LOCATION:Four Lakes Athletic Club 351 E Morissey Dr Elkhorn\, WI
UID:e.2059.4569
SEQUENCE:3
DTSTAMP:20260423T153241Z
URL:https://business.elkhornchamber.com/events/details/7th-annual-turkey-trot-4569
END:VEVENT

END:VCALENDAR
