BEGIN:VCALENDAR
VERSION:2.0
PRODID:-//ChamberMaster//Event Calendar 2.0//EN
METHOD:PUBLISH
X-PUBLISHED-TTL:P3D
REFRESH-INTERVAL:P3D
CALSCALE:GREGORIAN
BEGIN:VEVENT
DTSTART;VALUE=DATE:20140924
DTEND;VALUE=DATE:20140925
TRANSP:TRANSPARENT
X-MICROSOFT-CDO-ALLDAYEVENT:TRUE
SUMMARY:7th Annual Scramble for a Cure
DESCRIPTION:Beginning at 7:30am enjoy Bloody Marys & Breakfast at Abell's\, 9am Registrtation\; 10am Shotgun Start. Lunch during golf and a buffet dinner after golf. Lots of Prizes\, Raffles & more! Benefactor of the event: Carbone Comprehensive Cancer Center at UW Madison...at last years outing over $15\,000 was raised.
X-ALT-DESC;FMTTYPE=text/html:Beginning at 7:30am enjoy Bloody Marys &amp\; Breakfast at Abell&#39\;s\, 9am Registrtation\; 10am Shotgun Start. Lunch during golf and a buffet dinner after golf. Lots of Prizes\, Raffles &amp\; more! Benefactor of the event: Carbone Comprehensive Cancer Center at UW Madison...at last years outing over $15\,000 was raised.
LOCATION:Evergreen Golf Club N6246 Hwy 12\, Elkhorn
UID:e.2059.478
SEQUENCE:3
DTSTAMP:20260425T121703Z
URL:https://business.elkhornchamber.com/events/details/7th-annual-scramble-for-a-cure-09-24-2014-478
END:VEVENT

END:VCALENDAR
