BEGIN:VCALENDAR
VERSION:2.0
PRODID:-//ChamberMaster//Event Calendar 2.0//EN
METHOD:PUBLISH
X-PUBLISHED-TTL:P3D
REFRESH-INTERVAL:P3D
CALSCALE:GREGORIAN
BEGIN:VEVENT
DTSTART:20151121T163000Z
DTEND:20151121T220000Z
X-MICROSOFT-CDO-ALLDAYEVENT:FALSE
SUMMARY:7th Annual Rock N' Express Fashion Show
DESCRIPTION:The 7th annual Rock 'n Express Fashion Show presented by Lakeland Builders Association will be held at Geneva National's Club House. Grab your friends\, pick a theme and go ALL OUT!  Our goal for this fundraiser is for you to have good food\, lots of conversation\, and Rock n' entertainment. Your attendance at the Fashion show will help fund the association's efforts and provide scholarships to our area high school students interested in the building trades. Lunch\, dessert\, wine and the fashion show are all included with your purchase.
X-ALT-DESC;FMTTYPE=text/html:The 7th annual Rock &#39\;n Express Fashion Show presented by Lakeland Builders Association will be held at Geneva National&#39\;s Club House. Grab your friends\, pick a theme and go ALL OUT!&nbsp\; Our goal for this fundraiser is for you to have good food\, lots of conversation\, and Rock n&#39\; entertainment. Your attendance at the Fashion show will help fund the association&#39\;s efforts and provide scholarships to our area high school students interested in the building trades. Lunch\, dessert\, wine and the fashion show are all included with your purchase.
LOCATION:Geneva National Club House 1221 Geneva National Ave S Lake Geneva\, Wi 53147
UID:e.2059.1715
SEQUENCE:3
DTSTAMP:20260424T112831Z
URL:https://business.elkhornchamber.com/events/details/7th-annual-rock-n-express-fashion-show-11-21-2015-1715
END:VEVENT

END:VCALENDAR
