BEGIN:VCALENDAR
VERSION:2.0
PRODID:-//ChamberMaster//Event Calendar 2.0//EN
METHOD:PUBLISH
X-PUBLISHED-TTL:P3D
REFRESH-INTERVAL:P3D
CALSCALE:GREGORIAN
BEGIN:VEVENT
DTSTART:20190604T150000Z
DTEND:20190605T013000Z
X-MICROSOFT-CDO-ALLDAYEVENT:FALSE
SUMMARY:7th Annual Golf Outing & Dinner-Open Arms Free Clinic
DESCRIPTION:Open Arms Free Clinic is hosting their 7th Annual Golf Outing & Dinner at Hawks View Golf Course. Help them with their mission while having a little fun in the sun. Travel to www.openarmsfreeclinic.org to learn more on what they are all about and how you can become more involved.
X-ALT-DESC;FMTTYPE=text/html:Open Arms Free Clinic is hosting their 7th Annual Golf Outing &amp\; Dinner at Hawks View Golf Course. Help them with their mission while having a little fun in the sun. Travel to www.openarmsfreeclinic.org to learn more on what they are all about and how you can become more involved.
LOCATION:Hawks View 7377 Krueger Rd Lake Geneva\, WI
UID:e.2059.10843
SEQUENCE:3
DTSTAMP:20260421T033036Z
URL:https://business.elkhornchamber.com/events/details/7th-annual-golf-outing-dinner-open-arms-free-clinic-10843
END:VEVENT

END:VCALENDAR
