BEGIN:VCALENDAR
VERSION:2.0
PRODID:-//ChamberMaster//Event Calendar 2.0//EN
METHOD:PUBLISH
X-PUBLISHED-TTL:P3D
REFRESH-INTERVAL:P3D
CALSCALE:GREGORIAN
BEGIN:VEVENT
DTSTART;VALUE=DATE:20190215
DTEND;VALUE=DATE:20190218
TRANSP:TRANSPARENT
X-MICROSOFT-CDO-ALLDAYEVENT:TRUE
SUMMARY:6th Annual Sky Circus on Ice
DESCRIPTION:You're invited to this weekend long event which hosts some of the greatest kite performers in the world for a spectacular show you will not want to miss. Expert ice and snow carvers will converge along the lake and into Downtown Delavan showcasing their talents. Slide down a blizzard run\, sign up fora kite making workshop\, and so much more.
X-ALT-DESC;FMTTYPE=text/html:You&#39\;re invited to this weekend long event which hosts some of the greatest kite performers in the world for a spectacular show you will not want to miss. Expert ice and snow carvers will converge along the lake and into Downtown Delavan showcasing their talents. Slide down a blizzard run\, sign up fora kite making workshop\, and so much more.&nbsp\;
LOCATION:Lake Lawn Resort 2400 E Geneva Street Delavan\, WI
UID:e.2059.9515
SEQUENCE:3
DTSTAMP:20260421T171411Z
URL:https://business.elkhornchamber.com/events/details/6th-annual-sky-circus-on-ice-9515
END:VEVENT

END:VCALENDAR
