BEGIN:VCALENDAR
VERSION:2.0
PRODID:-//ChamberMaster//Event Calendar 2.0//EN
METHOD:PUBLISH
X-PUBLISHED-TTL:P3D
REFRESH-INTERVAL:P3D
CALSCALE:GREGORIAN
BEGIN:VEVENT
DTSTART:20150207T000000Z
DTEND:20150207T030000Z
X-MICROSOFT-CDO-ALLDAYEVENT:FALSE
SUMMARY:6th Annual Daddy & Daughter Dance
DESCRIPTION:Your daughter will never forget how special she felt\, spending an extraordinary evening of dinner\, dancing\, refreshments and fun with her father! Show her she is still the special "little lady" in your life.\n\n\n\nA professional photographer will be on hand to take pictures for an additional fee.\n\n\n\nMENU\n\n  Abbey Tossed Salad with Cucumbers & Tomatoes w/ two salad dressings\n\n  Herb Pesto Grilled Chicken Breast w/ Linguini\n\n  Rolls & Butter\n\n  Marble Cake with Butter Creme Frosting\n\n  Coffee\, tea\, milk & punch\n\n* Cash soda bar $2.00\, bottled water $2.50\n\n\n\nSALON DISCOUNTS:\n\n  The Avani Spa at the Abbey Resort is offering 20% off spa services for the event. (Including up-do's for the girls or anything else). Contact the Avani Spa at 262-275-1860 for an appointment - mention the Daddy/Daughter event.\n\n  Sparks Hair Salon in Walworth is offering a Makeover & Up-do for $20. Call for appointments at 262-275-2867.
X-ALT-DESC;FMTTYPE=text/html:<span style="font-family: arial\;"><span style="font-size: 12px\;">Your daughter will never forget how special she felt\, spending an extraordinary evening of dinner\, dancing\, refreshments and fun with her father! Show her she is still the special &quot\;little lady&quot\; in your life.<br />\n<br />\nA professional photographer will be on hand to take pictures for an additional fee.</span><br />\n<br />\n<span style="line-height: 19.2px\; font-size: 12px\;"><span style="color: black\;">MENU</span></span><br style="line-height: 19.2px\; font-size: 12px\;" />\n<span style="line-height: 19.2px\; font-size: 12px\;"><span style="color: black\;">&middot\;</span></span><span style="line-height: 19.2px\; font-size: 12px\;">&nbsp\;</span><span style="line-height: 19.2px\; font-size: 12px\;"><span style="color: black\;">Abbey Tossed Salad with Cucumbers &amp\; Tomatoes w/ two salad dressings</span></span><br style="line-height: 19.2px\; font-size: 12px\;" />\n<span style="line-height: 19.2px\; font-size: 12px\;"><span style="color: black\;">&middot\;</span></span><span style="line-height: 19.2px\; font-size: 12px\;">&nbsp\;</span><span style="line-height: 19.2px\; font-size: 12px\;"><span style="color: black\;">Herb Pesto Grilled Chicken Breast w/ Linguini</span></span><br style="line-height: 19.2px\; font-size: 12px\;" />\n<span style="line-height: 19.2px\; font-size: 12px\;"><span style="color: black\;">&middot\;</span></span><span style="line-height: 19.2px\; font-size: 12px\;">&nbsp\;</span><span style="line-height: 19.2px\; font-size: 12px\;"><span style="color: black\;">Rolls &amp\; Butter</span></span><br style="line-height: 19.2px\; font-size: 12px\;" />\n<span style="line-height: 19.2px\; font-size: 12px\;"><span style="color: black\;">&middot\;</span></span><span style="line-height: 19.2px\; font-size: 12px\;">&nbsp\;</span><span style="line-height: 19.2px\; font-size: 12px\;"><span style="color: black\;">Marble Cake with Butter Creme Frosting</span></span><br style="line-height: 19.2px\; font-size: 12px\;" />\n<span style="line-height: 19.2px\; font-size: 12px\;"><span style="color: black\;">&middot\;</span></span><span style="line-height: 19.2px\; font-size: 12px\;">&nbsp\;</span><span style="line-height: 19.2px\; font-size: 12px\;"><span style="color: black\;">Coffee\, tea\, milk &amp\; punch</span></span><br style="line-height: 19.2px\; font-size: 12px\;" />\n<span style="line-height: 19.2px\; font-size: 12px\;"><span style="color: black\;">* Cash soda bar $2.00\, bottled water $2.50</span></span><br />\n<br />\n<span style="font-size: 12px\;"><span style="color: black\;">SALON DISCOUNTS:</span><br />\n<span style="color: black\;">&middot\;</span> <strong><span style="color: black\;">The Avani Spa </span></strong><span style="color: black\;">at the Abbey Resort is offering 20% off spa services for the event. (Including up-do&#39\;s for the girls or anything else). Contact the Avani Spa at 262-275-1860 for an appointment - mention the Daddy/Daughter event.</span><br />\n<span style="color: black\;">&middot\;</span> <strong><span style="color: black\;">Sparks Hair Salon</span></strong><span style="color: black\;"> in Walworth is offering a Makeover &amp\; Up-do for $20. Call for appointments at 262-275-2867. </span></span></span><br />\n<br />\n&nbsp\;
LOCATION:The Abbey Resort Fontana
UID:e.2059.845
SEQUENCE:3
DTSTAMP:20260425T022558Z
URL:https://business.elkhornchamber.com/events/details/6th-annual-daddy-daughter-dance-02-06-2015-845
END:VEVENT

END:VCALENDAR
