BEGIN:VCALENDAR
VERSION:2.0
PRODID:-//ChamberMaster//Event Calendar 2.0//EN
METHOD:PUBLISH
X-PUBLISHED-TTL:P3D
REFRESH-INTERVAL:P3D
CALSCALE:GREGORIAN
BEGIN:VEVENT
DTSTART:20170819T120000Z
DTEND:20170819T160000Z
X-MICROSOFT-CDO-ALLDAYEVENT:FALSE
SUMMARY:5TH ANNUAL VICTOY OVER VIOLENCE Walk or Paddle to End Abuse
DESCRIPTION:5TH ANNUAL VICTORY OVER VIOLENCE  Walk or Paddle to End Abuse Held Sat August 19 7 - 11 am\, Williams Bay\n\n \n\nThe local Association for the Prevention of Family Violence will hold their annual fundraiser\, a walk or paddle (kayak\, paddle board or cafe) on the Lake Geneva shore path (or around the water\, along the shore) Sat. morning August 19\, 7 - 9 am from Wesley Woods (250 Stam St. Williams Bay) to Cedar Point\, with walkers able to choose any portion of a 6-m course.  Along the route\, a unique poker run will be provided with prizes for winning hands.  A continental breakfast will also be served at the conclusion of the event.  \n\n \n\nParticipants may begin by 7am and all walkers or paddlers should plan to start by 9am at the latest.  Pre-registration (recommended) can be done via Active.com (Victory over Violence) or through the APFV website\, www.apfvwalworth.com  Cost is $35 and all donation are 100% tax deducible.  Registration will also be possible that morning.  (Call APFV 262-723-4653 for information on canoe or paddle rental\, if desired.)
X-ALT-DESC;FMTTYPE=text/html:<p style="margin:0px\;font-size:16.6px\;line-height:normal\;font-family:Arial\;color:rgb(64\,64\,64)"><span style="-webkit-font-kerning: none\;">5TH ANNUAL VICTORY OVER VIOLENCE&nbsp\; Walk or Paddle to End Abuse Held Sat August 19 7 - 11 am\, Williams Bay</span></p>\n\n<p style="margin:0px\;font-size:16.6px\;line-height:normal\;font-family:Arial\;color:rgb(64\,64\,64)\;min-height:20px">&nbsp\;</p>\n\n<p style="margin:0px\;font-size:16.6px\;line-height:normal\;font-family:Arial\;color:rgb(64\,64\,64)"><span style="-webkit-font-kerning: none\;">The local Association for the Prevention of Family Violence will hold their annual fundraiser\, a walk or paddle (kayak\, paddle board or cafe) on the Lake Geneva shore path (or around the water\, along the shore) Sat. morning August 19\, 7 - 9 am from Wesley Woods (250 Stam St. Williams Bay) to Cedar Point\, with walkers able to choose any portion of a 6-m course.&nbsp\; Along the route\, a unique poker run will be provided with prizes for winning hands.&nbsp\; A continental breakfast will also be served at the conclusion of the event. &nbsp\;</span></p>\n\n<p style="margin:0px\;font-size:16.6px\;line-height:normal\;font-family:Arial\;color:rgb(64\,64\,64)\;min-height:20px">&nbsp\;</p>\n\n<p style="margin:0px\;font-size:16.6px\;line-height:normal\;font-family:Arial\;color:rgb(64\,64\,64)"><span style="-webkit-font-kerning: none\;">Participants may begin by 7am and all walkers or paddlers should plan to start by 9am at the latest.&nbsp\; Pre-registration (recommended) can be done via Active.com (Victory over Violence) or through the APFV website\, <a href="http://www.apfvwalwoth.com/" target="_blank" title="This external link will open in a new window"><span style="-webkit-font-kerning: none\;">www.apfvwalworth.com</span></a>&nbsp\; Cost is $35 and all donation are 100% tax deducible.&nbsp\; Registration will also be possible that morning.&nbsp\; (Call APFV <a target="_blank" title="This external link will open in a new window"><span style="-webkit-font-kerning: none\;">262-723-4653</span></a> for information on canoe or paddle rental\, if desired.)&nbsp\;</span></p>\n
LOCATION:Wesley Woods (250 Stam St. Williams Bay)
UID:e.2059.5693
SEQUENCE:3
DTSTAMP:20260422T233607Z
URL:https://business.elkhornchamber.com/events/details/5th-annual-victoy-over-violence-walk-or-paddle-to-end-abuse-5693
END:VEVENT

END:VCALENDAR
