BEGIN:VCALENDAR
VERSION:2.0
PRODID:-//ChamberMaster//Event Calendar 2.0//EN
METHOD:PUBLISH
X-PUBLISHED-TTL:P3D
REFRESH-INTERVAL:P3D
CALSCALE:GREGORIAN
BEGIN:VEVENT
DTSTART:20171202T160000Z
DTEND:20171202T170000Z
X-MICROSOFT-CDO-ALLDAYEVENT:FALSE
SUMMARY:5th Annual Reindeer Run & Grinch Sprint
DESCRIPTION:Get Groovy at the Reindeer Run!\n\nWhether you're a flower child or a hippie elk\, go grab your funky or holiday gear and meet us at the starting line!  \n\n\n\nStrut Your Mutt  Reindeer Run participants can dress up their dog in groovy or holiday attire!  Meet outside the Rec Center at 9:30 and parade to the Lions Den. "Fido" will receive a doggie treat & tie dye bandana!  All pets must be on a leash & are not allowed in the Rec Center building.  \n\nReindeer Run/Walk Our route starts at beautiful Sunset Park\, winds through the charming city streets\, and ends back at Sunset Park for awards in categories of fastest finishers!  \n\nGrinch Sprint (Ages 1-12)  Run with the Grinch in this fun 100 yard sprint! Before or after\, come inside for activities and pictures with the Grinch and other holiday characters!  This is designed as a fun sprint\, without awards\, and includes shirt and goodie bag!
X-ALT-DESC;FMTTYPE=text/html:<span style="font-family:arial\,helvetica\,sans-serif"><strong><span style="font-size:11pt">Get Groovy at the Reindeer Run!</span></strong><br />\n<span style="font-size:14px">Whether you&#39\;re a flower child or a hippie elk\, go grab your funky or holiday gear and meet us at the starting line!&nbsp\; </span><br />\n<br />\n<strong><span style="font-size:11pt">Strut Your Mutt </span></strong>&nbsp\;<span style="font-size:9.5pt">Reindeer Run participants can dress up their dog in groovy or holiday attire!&nbsp\; Meet outside the Rec Center at 9:30 and parade to the Lions Den. &ldquo\;Fido&rdquo\; will receive a doggie treat &amp\; tie dye bandana!&nbsp\; All pets must be on a leash &amp\; are not allowed in the Rec Center building.&nbsp\; </span><br />\n<strong><span style="font-size:11pt">Reindeer Run/Walk </span></strong><span style="font-size:9.5pt">Our route starts at&nbsp\;beautiful&nbsp\;Sunset Park\, winds through the charming city streets\, and ends back at Sunset Park for awards in categories of fastest finishers!&nbsp\; </span><br />\n<strong><span style="font-size:11pt">Grinch Sprint </span></strong><span style="font-size:9.5pt">(Ages 1-12)&nbsp\; Run with the Grinch in this fun 100 yard sprint! Before or after\, come inside for activities and pictures with the Grinch and other holiday characters!&nbsp\; This is designed as a fun sprint\, without awards\, and includes shirt and goodie bag!</span><br />\n&nbsp\;</span><br />\n&nbsp\;
LOCATION:Sunset Park 200 Devendorf Street\, Elkhorn\, WI 53121
UID:e.2059.7311
SEQUENCE:3
DTSTAMP:20260422T182936Z
URL:https://business.elkhornchamber.com/events/details/5th-annual-reindeer-run-grinch-sprint-7311
END:VEVENT

END:VCALENDAR
