BEGIN:VCALENDAR
VERSION:2.0
PRODID:-//ChamberMaster//Event Calendar 2.0//EN
METHOD:PUBLISH
X-PUBLISHED-TTL:P3D
REFRESH-INTERVAL:P3D
CALSCALE:GREGORIAN
BEGIN:VEVENT
DTSTART:20140907T150000Z
DTEND:20140907T210000Z
X-MICROSOFT-CDO-ALLDAYEVENT:FALSE
SUMMARY:5th Annual Open House & Car Show!
DESCRIPTION:Come by Elkhorn Automotive on Market Street in Elkhorn for their annual open house. Enjoy a car show\, free food\, games\, prizes\, big wheel races\, tire toss\, tire changing competition\, bounce house and burn out competition.
X-ALT-DESC;FMTTYPE=text/html:Come by Elkhorn Automotive on Market Street in Elkhorn for their annual open house. Enjoy a car show\, free food\, games\, prizes\, big wheel races\, tire toss\, tire changing competition\, bounce house and burn out competition.
LOCATION:Elkhorn Automotive 113 W. Market St.\, Elkhorn
UID:e.2059.283
SEQUENCE:3
DTSTAMP:20260425T104336Z
URL:https://business.elkhornchamber.com/events/details/5th-annual-open-house-car-show-09-07-2014-283
END:VEVENT

END:VCALENDAR
