BEGIN:VCALENDAR
VERSION:2.0
PRODID:-//ChamberMaster//Event Calendar 2.0//EN
METHOD:PUBLISH
X-PUBLISHED-TTL:P3D
REFRESH-INTERVAL:P3D
CALSCALE:GREGORIAN
BEGIN:VEVENT
DTSTART:20170609T220000Z
DTEND:20170610T030000Z
X-MICROSOFT-CDO-ALLDAYEVENT:FALSE
SUMMARY:5th Annual Night Under the Lights
DESCRIPTION:Elkhorn Rec teams play at Harris Park under the lights! Come for a family-friendly night with baseball\, raffles\, inflatables\, concessions\, and carnival-style games.
X-ALT-DESC;FMTTYPE=text/html:Elkhorn Rec teams play at Harris Park under the lights! Come for a family-friendly night with baseball\, raffles\, inflatables\, concessions\, and carnival-style games.
LOCATION:3 North Jackson Street\, Elkhorn WI 53121
UID:e.2059.5471
SEQUENCE:3
DTSTAMP:20260423T055531Z
URL:https://business.elkhornchamber.com/events/details/5th-annual-night-under-the-lights-5471
END:VEVENT

END:VCALENDAR
