BEGIN:VCALENDAR
VERSION:2.0
PRODID:-//ChamberMaster//Event Calendar 2.0//EN
METHOD:PUBLISH
X-PUBLISHED-TTL:P3D
REFRESH-INTERVAL:P3D
CALSCALE:GREGORIAN
BEGIN:VEVENT
DTSTART:20140426T150000Z
DTEND:20140426T170000Z
X-MICROSOFT-CDO-ALLDAYEVENT:FALSE
SUMMARY:5th Annual Bustle Hustle 5K Run/Walk
DESCRIPTION:A unique experience for all - the serious runner or the whole family at Old World Wisconsin. Registration is $18 for Adults and $14 for kids and includes a t-shirt\, museum admission pass and a healthy snack. Register by April 18th by visiting www.friendsoww.org
X-ALT-DESC;FMTTYPE=text/html:A unique experience for all - the serious runner or the whole family at Old World Wisconsin. Registration is $18 for Adults and $14 for kids and includes a t-shirt\, museum admission pass and a healthy snack. Register by April 18th by visiting www.friendsoww.org
LOCATION:Old World Wisconsin Hwy 67 in Eagle
UID:e.2059.27
SEQUENCE:3
DTSTAMP:20260425T200107Z
URL:https://business.elkhornchamber.com/events/details/5th-annual-bustle-hustle-5k-run-walk-04-26-2014-27
END:VEVENT

END:VCALENDAR
