BEGIN:VCALENDAR
VERSION:2.0
PRODID:-//ChamberMaster//Event Calendar 2.0//EN
METHOD:PUBLISH
X-PUBLISHED-TTL:P3D
REFRESH-INTERVAL:P3D
CALSCALE:GREGORIAN
BEGIN:VEVENT
DTSTART:20170617T130000Z
DTEND:20170617T170000Z
X-MICROSOFT-CDO-ALLDAYEVENT:FALSE
SUMMARY:5K Lombardi Walk to Tackle Cancer – Williams Bay
DESCRIPTION:Join Aurora Cancer Care and the Vince Lombardi Cancer Foundation to help tackle cancer. All proceeds benefit local Aurora Cancer Care programs and services\, and are eligible for match through the Vince Lombardi Cancer Foundation.
X-ALT-DESC;FMTTYPE=text/html:Join Aurora Cancer Care and the Vince Lombardi Cancer Foundation to help tackle cancer. All proceeds benefit local Aurora Cancer Care programs and services\, and are eligible for match through the Vince Lombardi Cancer Foundation.
LOCATION:Edgewater Park Williams Bay\, WI
UID:e.2059.5040
SEQUENCE:3
DTSTAMP:20260423T042254Z
URL:https://business.elkhornchamber.com/events/details/5k-lombardi-walk-to-tackle-cancer-williams-bay-5040
END:VEVENT

END:VCALENDAR
