BEGIN:VCALENDAR
VERSION:2.0
PRODID:-//ChamberMaster//Event Calendar 2.0//EN
METHOD:PUBLISH
X-PUBLISHED-TTL:P3D
REFRESH-INTERVAL:P3D
CALSCALE:GREGORIAN
BEGIN:VEVENT
DTSTART:20150620T200000Z
DTEND:20150621T050000Z
X-MICROSOFT-CDO-ALLDAYEVENT:FALSE
SUMMARY:45th Annual Elkhorn Firefighters Street Dance
DESCRIPTION:Support the Elkhorn Fire Department at the annual firefighters street dance held on Broad Street in front of the fire station. Bags tournament at 3pm\, $10 entry fee. Raffles\, food\, drinks and fun. Live music from the Novy Spinners at 5:30pm and Mt. Olive at 8:30pm.
X-ALT-DESC;FMTTYPE=text/html:Support the Elkhorn Fire Department at the annual firefighters street dance held on Broad Street in front of the fire station. Bags tournament at 3pm\, $10 entry fee. Raffles\, food\, drinks and fun. Live music from the Novy Spinners at 5:30pm and Mt. Olive at 8:30pm.
LOCATION:Elkhorn Fire Station South Broad Street
UID:e.2059.1588
SEQUENCE:3
DTSTAMP:20260424T192912Z
URL:https://business.elkhornchamber.com/events/details/45th-annual-elkhorn-firefighters-street-dance-06-20-2015-1588
END:VEVENT

END:VCALENDAR
