BEGIN:VCALENDAR
VERSION:2.0
PRODID:-//ChamberMaster//Event Calendar 2.0//EN
METHOD:PUBLISH
X-PUBLISHED-TTL:P3D
REFRESH-INTERVAL:P3D
CALSCALE:GREGORIAN
BEGIN:VEVENT
DTSTART;VALUE=DATE:20190615
DTEND;VALUE=DATE:20190616
TRANSP:TRANSPARENT
X-MICROSOFT-CDO-ALLDAYEVENT:TRUE
SUMMARY:4-H Horse Show
DESCRIPTION:4-H Horse show at the Walworth County Fair Grounds at the Horse Arena
X-ALT-DESC;FMTTYPE=text/html:4-H Horse show at the Walworth County Fair Grounds at the Horse Arena
LOCATION:Walworth County Fair grounds ( Horse Arena)
UID:e.2059.10760
SEQUENCE:3
DTSTAMP:20260421T032852Z
URL:https://business.elkhornchamber.com/events/details/4-h-horse-show-10760
END:VEVENT

END:VCALENDAR
