BEGIN:VCALENDAR
VERSION:2.0
PRODID:-//ChamberMaster//Event Calendar 2.0//EN
METHOD:PUBLISH
X-PUBLISHED-TTL:P3D
REFRESH-INTERVAL:P3D
CALSCALE:GREGORIAN
BEGIN:VEVENT
DTSTART:20160628T230000Z
DTEND:20160629T013000Z
X-MICROSOFT-CDO-ALLDAYEVENT:FALSE
SUMMARY:4-C Certification Start-Up Meeting
DESCRIPTION:Do you want to know more about opening your own in-home child care business? Join us and attend a 4-C Certification Start-Up Meeting for both English and Spanish speaking providers. 4-C certification assists child care providers in obtaining and maintaining standards of county regulation (certification)\, high quality care and education\, and successful business practices. Why should you be certified?   Be a stay-at-home parent while earning an income   Earn additional income with the USDA Child and Adult Care Food Program   Receive parent referrals through the 4-C referral department   Gain access to a wide variety of resources   Enhance your professional image We hope to see you there!
X-ALT-DESC;FMTTYPE=text/html:Do you want to know more about opening your own in-home child care business? Join us and attend a 4-C Certification Start-Up Meeting for both English and Spanish speaking providers. 4-C certification assists child care providers in obtaining and maintaining standards of county regulation (certification)\, high quality care and education\, and successful business practices. Why should you be certified? &bull\; Be a stay-at-home parent while earning an income &bull\; Earn additional income with the USDA Child and Adult Care Food Program &bull\; Receive parent referrals through the 4-C referral department &bull\; Gain access to a wide variety of resources &bull\; Enhance your professional image We hope to see you there!
LOCATION:Walworth County DHHS W4051 County Rd. NN Elkhorn\, WI 53121
UID:e.2059.4407
SEQUENCE:3
DTSTAMP:20260423T234140Z
URL:https://business.elkhornchamber.com/events/details/4-c-certification-start-up-meeting-06-28-2016-4407
END:VEVENT

END:VCALENDAR
