BEGIN:VCALENDAR
VERSION:2.0
PRODID:-//ChamberMaster//Event Calendar 2.0//EN
METHOD:PUBLISH
X-PUBLISHED-TTL:P3D
REFRESH-INTERVAL:P3D
CALSCALE:GREGORIAN
BEGIN:VEVENT
DTSTART:20151024T000000Z
DTEND:20151024T000000Z
X-MICROSOFT-CDO-ALLDAYEVENT:FALSE
SUMMARY:3rd Annual Trick-or-Trivia
DESCRIPTION:Join The Matheson Memorial Library in their 3rd annual Trick-or-Trivia Fundraiser. A spook-tacular night of trivia to benefit the Elkhorn Library. The winning team will receive a $200 cash prize. Costumes are encouraged\, but not required. Trivia services graciously donated by Bob Kordus of League Trivia and America's Pub Quiz Wisconsin.
X-ALT-DESC;FMTTYPE=text/html:Join The Matheson Memorial Library in their 3rd annual Trick-or-Trivia Fundraiser. A spook-tacular night of trivia to benefit the Elkhorn Library. The winning team will receive a $200 cash prize. Costumes are encouraged\, but not required. Trivia services graciously donated by Bob Kordus of League Trivia and America&#39\;s Pub Quiz Wisconsin.
LOCATION:Matheson Memorial Library
UID:e.2059.1723
SEQUENCE:3
DTSTAMP:20260424T141352Z
URL:https://business.elkhornchamber.com/events/details/3rd-annual-trick-or-trivia-10-23-2015-1723
END:VEVENT

END:VCALENDAR
