BEGIN:VCALENDAR
VERSION:2.0
PRODID:-//ChamberMaster//Event Calendar 2.0//EN
METHOD:PUBLISH
X-PUBLISHED-TTL:P3D
REFRESH-INTERVAL:P3D
CALSCALE:GREGORIAN
BEGIN:VEVENT
DTSTART:20150913T220000Z
DTEND:20150914T020000Z
X-MICROSOFT-CDO-ALLDAYEVENT:FALSE
SUMMARY:31 Restaurant & The Big Fun Trio Dinner
DESCRIPTION:Live Entertainment with The Big Fun Trio as well as dinner from 5:00-8:00pm. 20% of proceeds from dinner service will be donated to the Wisconsin Walk to End Alzheimer's for Walworth County.
X-ALT-DESC;FMTTYPE=text/html:Live Entertainment with The Big Fun Trio as well as dinner from 5:00-8:00pm. 20% of proceeds from dinner service will be donated to the Wisconsin Walk to End Alzheimer&#39\;s for Walworth County.
LOCATION:31 Restaurant & Bar 31 N Wisconsin St. Elkhorn Wi 53121
UID:e.2059.1675
SEQUENCE:3
DTSTAMP:20260424T161427Z
URL:https://business.elkhornchamber.com/events/details/31-restaurant-the-big-fun-trio-dinner-09-13-2015-1675
END:VEVENT

END:VCALENDAR
