BEGIN:VCALENDAR
VERSION:2.0
PRODID:-//ChamberMaster//Event Calendar 2.0//EN
METHOD:PUBLISH
X-PUBLISHED-TTL:P3D
REFRESH-INTERVAL:P3D
CALSCALE:GREGORIAN
BEGIN:VEVENT
DTSTART:20150919T160000Z
DTEND:20150919T200000Z
X-MICROSOFT-CDO-ALLDAYEVENT:FALSE
SUMMARY:2nd Annual Walworth County Safety Fair
DESCRIPTION:Learn about safety issues that are important to Walworth County children and their families. Safety & Fun activities\, educational activities\, food and entertainment!
X-ALT-DESC;FMTTYPE=text/html:Learn about safety issues that are important to Walworth County children and their families. Safety &amp\; Fun activities\, educational activities\, food and entertainment!
LOCATION:The Tree House Child and Family Center W4063 Hwy NN\, Elkhorn\, Wi 53121
UID:e.2059.1696
SEQUENCE:3
DTSTAMP:20260424T141822Z
URL:https://business.elkhornchamber.com/events/details/2nd-annual-walworth-county-safety-fair-09-19-2015-1696
END:VEVENT

END:VCALENDAR
