BEGIN:VCALENDAR
VERSION:2.0
PRODID:-//ChamberMaster//Event Calendar 2.0//EN
METHOD:PUBLISH
X-PUBLISHED-TTL:P3D
REFRESH-INTERVAL:P3D
CALSCALE:GREGORIAN
BEGIN:VEVENT
DTSTART;VALUE=DATE:20161212
DTEND;VALUE=DATE:20161217
TRANSP:TRANSPARENT
X-MICROSOFT-CDO-ALLDAYEVENT:TRUE
SUMMARY:2nd Annual Toy Drive
DESCRIPTION:MK Cellular is proud to be celebrating it's 2nd Annual Toy Drive! We are collecting unopened toys and will be donating them to local families in need! With every toy donated MK Cellular will match it! Help us spread the Christmas spirit this giving season by donating today.
X-ALT-DESC;FMTTYPE=text/html:MK Cellular is proud to be celebrating it&#39\;s 2nd Annual Toy Drive! We are collecting unopened toys and will be donating them to local families in need! With every toy donated MK Cellular will match it! Help us spread the Christmas spirit this giving season by donating today.
LOCATION:MK Cellular 58 W. Market St Elkhorn\, WI
UID:e.2059.4620
SEQUENCE:3
DTSTAMP:20260423T153330Z
URL:https://business.elkhornchamber.com/events/details/2nd-annual-toy-drive-4620
END:VEVENT

END:VCALENDAR
