BEGIN:VCALENDAR
VERSION:2.0
PRODID:-//ChamberMaster//Event Calendar 2.0//EN
METHOD:PUBLISH
X-PUBLISHED-TTL:P3D
REFRESH-INTERVAL:P3D
CALSCALE:GREGORIAN
BEGIN:VEVENT
DTSTART:20160709T150000Z
DTEND:20160709T210000Z
X-MICROSOFT-CDO-ALLDAYEVENT:FALSE
SUMMARY:2nd Annual Home Run Derby
DESCRIPTION:Presented by the Elkhorn Recreation Department\n\n\n\nEnjoy a day at Sunset Park with an old fashion Home Run Derby on July 9th! Storm Muehl will host our 2nd Annual Home Run Derby for all ages.  If your child is a winner\, they will receive a homerun medal and certificate of excellence along with "Homerun Champ" title for their age category!  What a way to wrap up the baseball season!\n\n\n\nFee: $15.00\n\n\n\nOnly pre-registered participants will be guaranteed a t-shirt.  Don't delay - sign up today!  Come 15 minutes prior to your time slot sign in.  Register online at www.cityofelkhorn.org or at the Recreation Center (200 Devendorf Street).\n\n\n\n8U: 10 - 11:00 AM\n\n10U: 11 - 12:30 PM\n\n12U: 12:30 - 2:00 PM\n\n14U: 2 - 3:30 PM\n\nFinal Rounds at 3:30 PM\n\nAwards at 4:00 PM
X-ALT-DESC;FMTTYPE=text/html:Presented by the Elkhorn Recreation Department<br />\n<br />\nEnjoy a day at Sunset Park with an old fashion Home Run Derby on July 9th! Storm Muehl will host our 2nd Annual Home Run Derby for all ages.&nbsp\; If your child is a winner\, they will receive a homerun medal and certificate of excellence along&nbsp\;with &quot\;Homerun Champ&quot\; title for their age category!&nbsp\; What a way to wrap up the baseball season!<br />\n<br />\nFee: $15.00<br />\n<br />\nOnly pre-registered participants will be guaranteed a t-shirt.&nbsp\; Don&#39\;t delay - sign up today!&nbsp\; Come 15 minutes prior to your time slot sign in.&nbsp\; Register online at <a href="http://www.cityofelkhorn.org">www.cityofelkhorn.org</a> or at the Recreation Center (200 Devendorf Street).<br />\n<br />\n8U: 10 - 11:00 AM<br />\n10U: 11 - 12:30 PM<br />\n12U: 12:30 - 2:00 PM<br />\n14U: 2 - 3:30 PM<br />\nFinal Rounds at 3:30 PM<br />\nAwards at 4:00 PM
LOCATION:Sunset Park
UID:e.2059.3457
SEQUENCE:3
DTSTAMP:20260423T220702Z
URL:https://business.elkhornchamber.com/events/details/2nd-annual-home-run-derby-07-09-2016-3457
END:VEVENT

END:VCALENDAR
