BEGIN:VCALENDAR
VERSION:2.0
PRODID:-//ChamberMaster//Event Calendar 2.0//EN
METHOD:PUBLISH
X-PUBLISHED-TTL:P3D
REFRESH-INTERVAL:P3D
CALSCALE:GREGORIAN
BEGIN:VEVENT
DTSTART:20151128T160000Z
DTEND:20151128T210000Z
X-MICROSOFT-CDO-ALLDAYEVENT:FALSE
SUMMARY:2nd Annual Holiday Bazaar Arts & Crafts Fair
DESCRIPTION:We need Artists and Crafters for our 2nd annual Holiday Bazaar hosted by Harbor Shores. Special guest room rates available for Vendors & Shoppers at $71.00
X-ALT-DESC;FMTTYPE=text/html:We need Artists and Crafters for our 2nd annual Holiday Bazaar hosted by Harbor Shores. Special guest room rates available for Vendors &amp\; Shoppers at $71.00
LOCATION:Harbor Shores 300 Wrigley Dr\, Lake Geneva WI 53147
UID:e.2059.1716
SEQUENCE:3
DTSTAMP:20260424T112736Z
URL:https://business.elkhornchamber.com/events/details/2nd-annual-holiday-bazaar-arts-crafts-fair-11-28-2015-1716
END:VEVENT

END:VCALENDAR
