BEGIN:VCALENDAR
VERSION:2.0
PRODID:-//ChamberMaster//Event Calendar 2.0//EN
METHOD:PUBLISH
X-PUBLISHED-TTL:P3D
REFRESH-INTERVAL:P3D
CALSCALE:GREGORIAN
BEGIN:VEVENT
DTSTART:20180412T233000Z
DTEND:20180413T010000Z
X-MICROSOFT-CDO-ALLDAYEVENT:FALSE
SUMMARY:2nd Annual Elkhorn Art Fest
DESCRIPTION:Come enjoy some refreshments and view the paintings\, photography\, and other artistic media of talented local artists. While you're there\, enjoy the acoustic guitar music of singer/songwriter Brett Gaertner!\n\nTalk with the artists and buy some art!
X-ALT-DESC;FMTTYPE=text/html:<p style="text-align:center">Come enjoy some refreshments and view the paintings\, photography\, and other artistic media of talented local artists. While you&rsquo\;re there\, enjoy the acoustic guitar music of singer/songwriter Brett Gaertner!</p>\n\n<p style="text-align:center">Talk with the artists and buy some art!</p>\n
LOCATION:Matheson Memorial Library
UID:e.2059.7588
SEQUENCE:3
DTSTAMP:20260422T102847Z
URL:https://business.elkhornchamber.com/events/details/2nd-annual-elkhorn-art-fest-7588
END:VEVENT

END:VCALENDAR
